BEGIN:VCALENDAR
VERSION:2.0
CALSCALE:GREGORIAN
PRODID:-//Diputació de Barcelona//DibaCMS//EN
BEGIN:VEVENT
UID:25414
DTSTAMP:20260423T031652
DTSTART:20230614T200000
DTEND:20230614T200000
SUMMARY:Conferència "Independentisme econòmic: de la Cambra de Comerç al pressupost d'una Catalunya Estat"
LOCATION:Carrer del Pont, 3 08140 Caldes de Montbui
METHOD:PUBLISH
X-WR-CALNAME:caldesm@caldesdemontbui.cat
X-WR-TIMEZONE:Europe/Madrid
DESCRIPTION:
URI:https://www.caldesdemontbui.cat/actualitat/agenda/conferencia-independentisme-economic-de-la-cambra-de-comerc-al-pressupost-duna-catalunya-estat.html
CLASS:PUBLIC
END:VEVENT
END:VCALENDAR
