BEGIN:VCALENDAR
VERSION:2.0
CALSCALE:GREGORIAN
PRODID:-//Diputació de Barcelona//DibaCMS//EN
BEGIN:VEVENT
UID:25413
DTSTAMP:20260422T220109
DTSTART:20230618T180000
DTEND:20230618T180000
SUMMARY:Concert d'estiu de la Coral del Centre
LOCATION:Carrer del Pont, 3 08140 Caldes de Montbui
METHOD:PUBLISH
X-WR-CALNAME:caldesm@caldesdemontbui.cat
X-WR-TIMEZONE:Europe/Madrid
DESCRIPTION:
URI:https://www.caldesdemontbui.cat/actualitat/agenda/concert-destiu-de-la-coral-del-centre.html
CLASS:PUBLIC
END:VEVENT
END:VCALENDAR
