BEGIN:VCALENDAR
VERSION:2.0
CALSCALE:GREGORIAN
PRODID:-//Diputació de Barcelona//DibaCMS//EN
BEGIN:VEVENT
UID:25396
DTSTAMP:20260423T030032
DTSTART:20230621T110000
DTEND:20230621T110000
SUMMARY:Dia Internacional del Ioga
LOCATION:
METHOD:PUBLISH
X-WR-CALNAME:caldesm@caldesdemontbui.cat
X-WR-TIMEZONE:Europe/Madrid
DESCRIPTION:
URI:https://www.caldesdemontbui.cat/actualitat/agenda/dia-internacional-del-ioga.html
CLASS:PUBLIC
END:VEVENT
END:VCALENDAR
