BEGIN:VCALENDAR
VERSION:2.0
CALSCALE:GREGORIAN
PRODID:-//Diputació de Barcelona//DibaCMS//EN
BEGIN:VEVENT
UID:25383
DTSTAMP:20260422T233630
DTSTART:20230608T160000
DTEND:20230616T210000
SUMMARY:Exposició de treballs d’alumnes del Taller d’Art
LOCATION:Buenos Aires, 16-18 08140 Caldes de Montbui
METHOD:PUBLISH
X-WR-CALNAME:caldesm@caldesdemontbui.cat
X-WR-TIMEZONE:Europe/Madrid
DESCRIPTION:
URI:https://www.caldesdemontbui.cat/actualitat/agenda/25383-exposicio-de-treballs-dalumnes-del-taller-dart.html
CLASS:PUBLIC
END:VEVENT
END:VCALENDAR
