BEGIN:VCALENDAR
VERSION:2.0
CALSCALE:GREGORIAN
PRODID:-//Diputació de Barcelona//DibaCMS//EN
BEGIN:VEVENT
UID:25382
DTSTAMP:20260423T061819
DTSTART:20230618T100000
DTEND:20230618T100000
SUMMARY:Fira Botiga
LOCATION:
METHOD:PUBLISH
X-WR-CALNAME:caldesm@caldesdemontbui.cat
X-WR-TIMEZONE:Europe/Madrid
DESCRIPTION:
URI:https://www.caldesdemontbui.cat/actualitat/agenda/fira-botiga.html
CLASS:PUBLIC
END:VEVENT
END:VCALENDAR
