BEGIN:VCALENDAR
VERSION:2.0
CALSCALE:GREGORIAN
PRODID:-//Diputació de Barcelona//DibaCMS//EN
BEGIN:VEVENT
UID:25380
DTSTAMP:20260422T233450
DTSTART:20230613T170000
DTEND:20230613T170000
SUMMARY:Xerrada “Acompanyar la sexualitat a l’educació primària” 
LOCATION:M. Aurèlia Capmany, 2 08140 Caldes de Montbui
METHOD:PUBLISH
X-WR-CALNAME:caldesm@caldesdemontbui.cat
X-WR-TIMEZONE:Europe/Madrid
DESCRIPTION:
URI:https://www.caldesdemontbui.cat/actualitat/agenda/xerrada-acompanyar-la-sexualitat-a-leducacio-primaria-.html
CLASS:PUBLIC
END:VEVENT
END:VCALENDAR
