BEGIN:VCALENDAR
VERSION:2.0
CALSCALE:GREGORIAN
PRODID:-//Diputació de Barcelona//DibaCMS//EN
BEGIN:VEVENT
UID:25375
DTSTAMP:20260423T201142
DTSTART:20230608T190000
DTEND:20230608T190000
SUMMARY:Xerrada informativa sobre el bicibus
LOCATION:
METHOD:PUBLISH
X-WR-CALNAME:caldesm@caldesdemontbui.cat
X-WR-TIMEZONE:Europe/Madrid
DESCRIPTION:
URI:https://www.caldesdemontbui.cat/actualitat/agenda/xerrada-informativa-sobre-el-bicibus.html
CLASS:PUBLIC
END:VEVENT
END:VCALENDAR
