BEGIN:VCALENDAR
VERSION:2.0
CALSCALE:GREGORIAN
PRODID:-//Diputació de Barcelona//DibaCMS//EN
BEGIN:VEVENT
UID:25373
DTSTAMP:20260423T064436
DTSTART:20230607T180000
DTEND:20230607T180000
SUMMARY:Xerrada-taller “Sexualitat i pornografia” 
LOCATION:
METHOD:PUBLISH
X-WR-CALNAME:caldesm@caldesdemontbui.cat
X-WR-TIMEZONE:Europe/Madrid
DESCRIPTION:
URI:https://www.caldesdemontbui.cat/actualitat/agenda/xerrada-taller-sexualitat-i-pornografia-.html
CLASS:PUBLIC
END:VEVENT
END:VCALENDAR
