BEGIN:VCALENDAR
VERSION:2.0
CALSCALE:GREGORIAN
PRODID:-//Diputació de Barcelona//DibaCMS//EN
BEGIN:VEVENT
UID:25363
DTSTAMP:20260423T112533
DTSTART:20230609T163000
DTEND:20230609T183000
SUMMARY:Caldesflor-Corpus 2023
LOCATION:
METHOD:PUBLISH
X-WR-CALNAME:caldesm@caldesdemontbui.cat
X-WR-TIMEZONE:Europe/Madrid
DESCRIPTION:
URI:https://www.caldesdemontbui.cat/actualitat/agenda/caldesflor-corpus-2023.html
CLASS:PUBLIC
END:VEVENT
END:VCALENDAR
