BEGIN:VCALENDAR
VERSION:2.0
CALSCALE:GREGORIAN
PRODID:-//Diputació de Barcelona//DibaCMS//EN
BEGIN:VEVENT
UID:25362
DTSTAMP:20260423T010042
DTSTART:20230608T100000
DTEND:20230608T100000
SUMMARY:VII Gran Dictat 
LOCATION:C. Mestre Gregori Montserrat, 4 08140 Caldes de Montbui
METHOD:PUBLISH
X-WR-CALNAME:caldesm@caldesdemontbui.cat
X-WR-TIMEZONE:Europe/Madrid
DESCRIPTION:
URI:https://www.caldesdemontbui.cat/actualitat/agenda/vii-gran-dictat-.html
CLASS:PUBLIC
END:VEVENT
END:VCALENDAR
