BEGIN:VCALENDAR
VERSION:2.0
CALSCALE:GREGORIAN
PRODID:-//Diputació de Barcelona//DibaCMS//EN
BEGIN:VEVENT
UID:25351
DTSTAMP:20260422T215949
DTSTART:20230629T180000
DTEND:20230629T180000
SUMMARY:Bibliolab. Activitat familiar “Dissenya i estampa la teva bossa”
LOCATION:Santa Teresa, 3-5 08140 Caldes de Montbui
METHOD:PUBLISH
X-WR-CALNAME:caldesm@caldesdemontbui.cat
X-WR-TIMEZONE:Europe/Madrid
DESCRIPTION:
URI:https://www.caldesdemontbui.cat/actualitat/agenda/bibliolab-activitat-familiar-dissenya-i-estampa-la-teva-bossa.html
CLASS:PUBLIC
END:VEVENT
END:VCALENDAR
