BEGIN:VCALENDAR
VERSION:2.0
CALSCALE:GREGORIAN
PRODID:-//Diputació de Barcelona//DibaCMS//EN
BEGIN:VEVENT
UID:25345
DTSTAMP:20260423T011112
DTSTART:20230622T180000
DTEND:20230622T180000
SUMMARY:Dijous de conte “L’enemic i pastís per a enemics” 
LOCATION:Santa Teresa, 3-5 08140 Caldes de Montbui
METHOD:PUBLISH
X-WR-CALNAME:caldesm@caldesdemontbui.cat
X-WR-TIMEZONE:Europe/Madrid
DESCRIPTION:
URI:https://www.caldesdemontbui.cat/actualitat/agenda/dijous-de-conte-lenemic-i-pastis-per-a-enemics-.html
CLASS:PUBLIC
END:VEVENT
END:VCALENDAR
