BEGIN:VCALENDAR
VERSION:2.0
CALSCALE:GREGORIAN
PRODID:-//Diputació de Barcelona//DibaCMS//EN
BEGIN:VEVENT
UID:25343
DTSTAMP:20260422T201950
DTSTART:20230621T193000
DTEND:20230621T193000
SUMMARY:Concerts de l’Orquestra Municipal, del Cor Octet i de Mini Flaustaff
LOCATION:Carrer del Pont, 3 08140 Caldes de Montbui
METHOD:PUBLISH
X-WR-CALNAME:caldesm@caldesdemontbui.cat
X-WR-TIMEZONE:Europe/Madrid
DESCRIPTION:
URI:https://www.caldesdemontbui.cat/actualitat/agenda/concerts-de-lorquestra-municipal-del-cor-octet-i-de-mini-flaustaff.html
CLASS:PUBLIC
END:VEVENT
END:VCALENDAR
