BEGIN:VCALENDAR
VERSION:2.0
CALSCALE:GREGORIAN
PRODID:-//Diputació de Barcelona//DibaCMS//EN
BEGIN:VEVENT
UID:25342
DTSTAMP:20260423T083536
DTSTART:20230621T180000
DTEND:20230621T180000
SUMMARY:Concerts de fi de curs de les formacions corals i orquestrals
LOCATION:Carrer del Pont, 3 08140 Caldes de Montbui
METHOD:PUBLISH
X-WR-CALNAME:caldesm@caldesdemontbui.cat
X-WR-TIMEZONE:Europe/Madrid
DESCRIPTION:
URI:https://www.caldesdemontbui.cat/actualitat/agenda/concerts-de-fi-de-curs-de-les-formacions-corals-i-orquestrals.html
CLASS:PUBLIC
END:VEVENT
END:VCALENDAR
