BEGIN:VCALENDAR
VERSION:2.0
CALSCALE:GREGORIAN
PRODID:-//Diputació de Barcelona//DibaCMS//EN
BEGIN:VEVENT
UID:25341
DTSTAMP:20260423T100837
DTSTART:20230619T193000
DTEND:20230619T193000
SUMMARY:“La família Addams” actuació a càrrec dels alumnes del mòdul de Teatre Musical.
LOCATION:Carrer del Pont, 3 08140 Caldes de Montbui
METHOD:PUBLISH
X-WR-CALNAME:caldesm@caldesdemontbui.cat
X-WR-TIMEZONE:Europe/Madrid
DESCRIPTION:
URI:https://www.caldesdemontbui.cat/actualitat/agenda/la-familia-addams-actuacio-a-carrec-dels-alumnes-del-modul-de-teatre-musical.html
CLASS:PUBLIC
END:VEVENT
END:VCALENDAR
