BEGIN:VCALENDAR
VERSION:2.0
CALSCALE:GREGORIAN
PRODID:-//Diputació de Barcelona//DibaCMS//EN
BEGIN:VEVENT
UID:25337
DTSTAMP:20260423T030129
DTSTART:20230610T203000
DTEND:20230610T203000
SUMMARY:La Papessa Joana
LOCATION:
METHOD:PUBLISH
X-WR-CALNAME:caldesm@caldesdemontbui.cat
X-WR-TIMEZONE:Europe/Madrid
DESCRIPTION:
URI:https://www.caldesdemontbui.cat/actualitat/agenda/25337-la-papessa-joana.html
CLASS:PUBLIC
END:VEVENT
END:VCALENDAR
