BEGIN:VCALENDAR
VERSION:2.0
CALSCALE:GREGORIAN
PRODID:-//Diputació de Barcelona//DibaCMS//EN
BEGIN:VEVENT
UID:25323
DTSTAMP:20260423T133226
DTSTART:20230607T110000
DTEND:20230607T110000
SUMMARY:Jornada de portes obertes a l’Arxiu Històric
LOCATION:Santa Teresa, 3-5 08140 Caldes de Montbui
METHOD:PUBLISH
X-WR-CALNAME:caldesm@caldesdemontbui.cat
X-WR-TIMEZONE:Europe/Madrid
DESCRIPTION:
URI:https://www.caldesdemontbui.cat/actualitat/agenda/25323-jornada-de-portes-obertes-a-larxiu-historic.html
CLASS:PUBLIC
END:VEVENT
END:VCALENDAR
