BEGIN:VCALENDAR
VERSION:2.0
CALSCALE:GREGORIAN
PRODID:-//Diputació de Barcelona//DibaCMS//EN
BEGIN:VEVENT
UID:25322
DTSTAMP:20260423T005930
DTSTART:20230605T170000
DTEND:20230605T170000
SUMMARY:Presentació de la donació de fons de fotografies de l’Anita Gispert Vila (1891-1965)
LOCATION:Santa Teresa, 3-5 08140 Caldes de Montbui
METHOD:PUBLISH
X-WR-CALNAME:caldesm@caldesdemontbui.cat
X-WR-TIMEZONE:Europe/Madrid
DESCRIPTION:
URI:https://www.caldesdemontbui.cat/actualitat/agenda/presentacio-de-la-donacio-de-fons-de-fotografies-de-lanita-gispert-vila-1891-1965.html
CLASS:PUBLIC
END:VEVENT
END:VCALENDAR
