BEGIN:VCALENDAR
VERSION:2.0
CALSCALE:GREGORIAN
PRODID:-//Diputació de Barcelona//DibaCMS//EN
BEGIN:VEVENT
UID:25314
DTSTAMP:20260423T075336
DTSTART:20230605T173000
DTEND:20230609T210000
SUMMARY:Audicions d'instruments a l'EMM Joan Valls
LOCATION:Buenos Aires, 16 08140 Caldes de Montbui
METHOD:PUBLISH
X-WR-CALNAME:caldesm@caldesdemontbui.cat
X-WR-TIMEZONE:Europe/Madrid
DESCRIPTION:
URI:https://www.caldesdemontbui.cat/actualitat/agenda/25314-audicions-dinstruments-a-lemm-joan-valls.html
CLASS:PUBLIC
END:VEVENT
END:VCALENDAR
