BEGIN:VCALENDAR
VERSION:2.0
CALSCALE:GREGORIAN
PRODID:-//Diputació de Barcelona//DibaCMS//EN
BEGIN:VEVENT
UID:25228
DTSTAMP:20260423T075844
DTSTART:20230521T200000
DTEND:20230521T200000
SUMMARY:Laia Porta Quintet
LOCATION:Corredossos de Baix, 9-11 08140 Caldes de Montbui
METHOD:PUBLISH
X-WR-CALNAME:caldesm@caldesdemontbui.cat
X-WR-TIMEZONE:Europe/Madrid
DESCRIPTION:
URI:https://www.caldesdemontbui.cat/actualitat/agenda/laia-porta-quintet.html
CLASS:PUBLIC
END:VEVENT
END:VCALENDAR
