BEGIN:VCALENDAR
VERSION:2.0
CALSCALE:GREGORIAN
PRODID:-//Diputació de Barcelona//DibaCMS//EN
BEGIN:VEVENT
UID:25223
DTSTAMP:20260423T061932
DTSTART:20230531T190000
DTEND:20230531T190000
SUMMARY:Xerrada "Espai de cures, espai de dones. Cuidadores i salut"
LOCATION:
METHOD:PUBLISH
X-WR-CALNAME:caldesm@caldesdemontbui.cat
X-WR-TIMEZONE:Europe/Madrid
DESCRIPTION:
URI:https://www.caldesdemontbui.cat/actualitat/agenda/xerrada-espai-de-cures-espai-de-dones-cuidadores-i-salut.html
CLASS:PUBLIC
END:VEVENT
END:VCALENDAR
