BEGIN:VCALENDAR
VERSION:2.0
CALSCALE:GREGORIAN
PRODID:-//Diputació de Barcelona//DibaCMS//EN
BEGIN:VEVENT
UID:25219
DTSTAMP:20260423T042440
DTSTART:20230516T090000
DTEND:20230516T130000
SUMMARY:Campanya de donació de sang
LOCATION:Infantil i Primària: Av. Josep Fontcuberta, 166 / ESO i Batxillerat: Av. Pi i Margall, 157 08140 Caldes de Montbui
METHOD:PUBLISH
X-WR-CALNAME:caldesm@caldesdemontbui.cat
X-WR-TIMEZONE:Europe/Madrid
DESCRIPTION:
URI:https://www.caldesdemontbui.cat/actualitat/agenda/25219-campanya-de-donacio-de-sang.html
CLASS:PUBLIC
END:VEVENT
END:VCALENDAR
