BEGIN:VCALENDAR
VERSION:2.0
CALSCALE:GREGORIAN
PRODID:-//Diputació de Barcelona//DibaCMS//EN
BEGIN:VEVENT
UID:25216
DTSTAMP:20260423T031720
DTSTART:20230526T180000
DTEND:20230526T180000
SUMMARY:Reunió informativa de seguretat i autoprotecció en incendis forestals
LOCATION:
METHOD:PUBLISH
X-WR-CALNAME:caldesm@caldesdemontbui.cat
X-WR-TIMEZONE:Europe/Madrid
DESCRIPTION:
URI:https://www.caldesdemontbui.cat/actualitat/agenda/reunio-informativa-de-seguretat-i-autoproteccio-en-incendis-forestals.html
CLASS:PUBLIC
END:VEVENT
END:VCALENDAR
