BEGIN:VCALENDAR
VERSION:2.0
CALSCALE:GREGORIAN
PRODID:-//Diputació de Barcelona//DibaCMS//EN
BEGIN:VEVENT
UID:25179
DTSTAMP:20260423T030231
DTSTART:20230518T180000
DTEND:20230518T180000
SUMMARY:Dijous de conte “Contes que bufa el vent”
LOCATION:Santa Teresa, 3-5 08140 Caldes de Montbui
METHOD:PUBLISH
X-WR-CALNAME:caldesm@caldesdemontbui.cat
X-WR-TIMEZONE:Europe/Madrid
DESCRIPTION:
URI:https://www.caldesdemontbui.cat/actualitat/agenda/dijous-de-conte-contes-que-bufa-el-vent.html
CLASS:PUBLIC
END:VEVENT
END:VCALENDAR
