BEGIN:VCALENDAR
VERSION:2.0
CALSCALE:GREGORIAN
PRODID:-//Diputació de Barcelona//DibaCMS//EN
BEGIN:VEVENT
UID:25173
DTSTAMP:20260423T011900
DTSTART:20230531T080000
DTEND:20230531T080000
SUMMARY:Caminada a Vilafranca del Penedès
LOCATION:
METHOD:PUBLISH
X-WR-CALNAME:caldesm@caldesdemontbui.cat
X-WR-TIMEZONE:Europe/Madrid
DESCRIPTION:
URI:https://www.caldesdemontbui.cat/actualitat/agenda/caminada-a-vilafranca-del-penedes.html
CLASS:PUBLIC
END:VEVENT
END:VCALENDAR
