BEGIN:VCALENDAR
VERSION:2.0
CALSCALE:GREGORIAN
PRODID:-//Diputació de Barcelona//DibaCMS//EN
BEGIN:VEVENT
UID:25168
DTSTAMP:20260423T095259
DTSTART:20230524T080000
DTEND:20230524T080000
SUMMARY:Caminada als Saulons
LOCATION:
METHOD:PUBLISH
X-WR-CALNAME:caldesm@caldesdemontbui.cat
X-WR-TIMEZONE:Europe/Madrid
DESCRIPTION:
URI:https://www.caldesdemontbui.cat/actualitat/agenda/25168-caminada-als-saulons.html
CLASS:PUBLIC
END:VEVENT
END:VCALENDAR
