BEGIN:VCALENDAR
VERSION:2.0
CALSCALE:GREGORIAN
PRODID:-//Diputació de Barcelona//DibaCMS//EN
BEGIN:VEVENT
UID:25165
DTSTAMP:20260423T041850
DTSTART:20230518T093000
DTEND:20230518T093000
SUMMARY:Sortida del grup de colònies per a gent gran
LOCATION:
METHOD:PUBLISH
X-WR-CALNAME:caldesm@caldesdemontbui.cat
X-WR-TIMEZONE:Europe/Madrid
DESCRIPTION:Programa municipal Gent Gran Activa

URI:https://www.caldesdemontbui.cat/actualitat/agenda/sortida-del-grup-de-colonies-per-a-gent-gran.html
CLASS:PUBLIC
END:VEVENT
END:VCALENDAR
