BEGIN:VCALENDAR
VERSION:2.0
CALSCALE:GREGORIAN
PRODID:-//Diputació de Barcelona//DibaCMS//EN
BEGIN:VEVENT
UID:25163
DTSTAMP:20260423T150515
DTSTART:20230512T160000
DTEND:20230512T160000
SUMMARY:Conversem sobre... "Tecnologia Blockchain"
LOCATION:C. Mestre Gregori Montserrat, 4 08140 Caldes de Montbui
METHOD:PUBLISH
X-WR-CALNAME:caldesm@caldesdemontbui.cat
X-WR-TIMEZONE:Europe/Madrid
DESCRIPTION:Programa municipal Gent Gran Activa

URI:https://www.caldesdemontbui.cat/actualitat/agenda/conversem-sobre-tecnologia-blockchain.html
CLASS:PUBLIC
END:VEVENT
END:VCALENDAR
