BEGIN:VCALENDAR
VERSION:2.0
CALSCALE:GREGORIAN
PRODID:-//Diputació de Barcelona//DibaCMS//EN
BEGIN:VEVENT
UID:25160
DTSTAMP:20260423T011237
DTSTART:20230511T180000
DTEND:20230511T180000
SUMMARY:Presentació del llibre Pau. El valor de la vida als nostres dies
LOCATION:Santa Teresa, 3-5 08140 Caldes de Montbui
METHOD:PUBLISH
X-WR-CALNAME:caldesm@caldesdemontbui.cat
X-WR-TIMEZONE:Europe/Madrid
DESCRIPTION:
URI:https://www.caldesdemontbui.cat/actualitat/agenda/presentacio-del-llibre-pau-el-valor-de-la-vida-als-nostres-dies.html
CLASS:PUBLIC
END:VEVENT
END:VCALENDAR
