BEGIN:VCALENDAR
VERSION:2.0
CALSCALE:GREGORIAN
PRODID:-//Diputació de Barcelona//DibaCMS//EN
BEGIN:VEVENT
UID:25147
DTSTAMP:20260423T182941
DTSTART:20230603T170000
DTEND:20230603T235900
SUMMARY:Fira d'Abril
LOCATION:
METHOD:PUBLISH
X-WR-CALNAME:caldesm@caldesdemontbui.cat
X-WR-TIMEZONE:Europe/Madrid
DESCRIPTION:
URI:https://www.caldesdemontbui.cat/actualitat/agenda/fira-dabril.html
CLASS:PUBLIC
END:VEVENT
END:VCALENDAR
