BEGIN:VCALENDAR
VERSION:2.0
CALSCALE:GREGORIAN
PRODID:-//Diputació de Barcelona//DibaCMS//EN
BEGIN:VEVENT
UID:25135
DTSTAMP:20260423T044829
DTSTART:20230428T190000
DTEND:20230428T190000
SUMMARY:Presentació del llibre 'Jaume Arnella, artesà de cançons'
LOCATION:Corredossos de Baix, 9-11 08140 Caldes de Montbui
METHOD:PUBLISH
X-WR-CALNAME:caldesm@caldesdemontbui.cat
X-WR-TIMEZONE:Europe/Madrid
DESCRIPTION:
URI:https://www.caldesdemontbui.cat/actualitat/agenda/presentacio-del-llibre-jaume-arnella-artesa-de-cancons.html
CLASS:PUBLIC
END:VEVENT
END:VCALENDAR
