BEGIN:VCALENDAR
VERSION:2.0
CALSCALE:GREGORIAN
PRODID:-//Diputació de Barcelona//DibaCMS//EN
BEGIN:VEVENT
UID:25128
DTSTAMP:20260423T063147
DTSTART:20230507T103000
DTEND:20230507T130000
SUMMARY:XXVI Trobada Nacional dels Tres Tombs 
LOCATION:Consulteu el recorrecorregut al plànol adjunt  
METHOD:PUBLISH
X-WR-CALNAME:caldesm@caldesdemontbui.cat
X-WR-TIMEZONE:Europe/Madrid
DESCRIPTION:
URI:https://www.caldesdemontbui.cat/actualitat/agenda/xxvi-trobada-nacional-dels-tres-tombs-.html
CLASS:PUBLIC
END:VEVENT
END:VCALENDAR
