BEGIN:VCALENDAR
VERSION:2.0
CALSCALE:GREGORIAN
PRODID:-//Diputació de Barcelona//DibaCMS//EN
BEGIN:VEVENT
UID:25113
DTSTAMP:20260423T031757
DTSTART:20230404T080000
DTEND:20230404T130000
SUMMARY:La deixalleria mòbil s’instal•larà el dimarts 4 d'abril de 8 a 13 h  - duplicat
LOCATION:
METHOD:PUBLISH
X-WR-CALNAME:caldesm@caldesdemontbui.cat
X-WR-TIMEZONE:Europe/Madrid
DESCRIPTION:
URI:https://www.caldesdemontbui.cat/actualitat/agenda/la-deixalleria-mobil-sinstallara-el-dimarts-4-dabril-de-8-a-13-h-duplicat.html
CLASS:PUBLIC
END:VEVENT
END:VCALENDAR
