BEGIN:VCALENDAR
VERSION:2.0
CALSCALE:GREGORIAN
PRODID:-//Diputació de Barcelona//DibaCMS//EN
BEGIN:VEVENT
UID:25109
DTSTAMP:20260423T102349
DTSTART:20230424T180000
DTEND:20230424T180000
SUMMARY:Xerrada “Pantalles: acompanyar els usos des de casa”
LOCATION:C. Dr. Fleming S/N 08140 Caldes de Montbui
METHOD:PUBLISH
X-WR-CALNAME:caldesm@caldesdemontbui.cat
X-WR-TIMEZONE:Europe/Madrid
DESCRIPTION:
URI:https://www.caldesdemontbui.cat/actualitat/agenda/xerrada-pantalles-acompanyar-els-usos-des-de-casa.html
CLASS:PUBLIC
END:VEVENT
END:VCALENDAR
