BEGIN:VCALENDAR
VERSION:2.0
CALSCALE:GREGORIAN
PRODID:-//Diputació de Barcelona//DibaCMS//EN
BEGIN:VEVENT
UID:25078
DTSTAMP:20260423T064547
DTSTART:20230423T183000
DTEND:20230423T183000
SUMMARY:Sant Jordi 2023. Balla’m un conte
LOCATION:
METHOD:PUBLISH
X-WR-CALNAME:caldesm@caldesdemontbui.cat
X-WR-TIMEZONE:Europe/Madrid
DESCRIPTION:
URI:https://www.caldesdemontbui.cat/actualitat/agenda/sant-jordi-2023-ballam-un-conte.html
CLASS:PUBLIC
END:VEVENT
END:VCALENDAR
