BEGIN:VCALENDAR
VERSION:2.0
CALSCALE:GREGORIAN
PRODID:-//Diputació de Barcelona//DibaCMS//EN
BEGIN:VEVENT
UID:25057
DTSTAMP:20260423T120901
DTSTART:20230420T190000
DTEND:20230420T190000
SUMMARY:Sant Jordi 2023. Lliurament de premis del concurs PintaPunt de la Biblioteca
LOCATION:Santa Teresa, 3-5 08140 Caldes de Montbui
METHOD:PUBLISH
X-WR-CALNAME:caldesm@caldesdemontbui.cat
X-WR-TIMEZONE:Europe/Madrid
DESCRIPTION:
URI:https://www.caldesdemontbui.cat/actualitat/agenda/sant-jordi-2023-lliurament-de-premis-del-concurs-pintapunt-de-la-biblioteca.html
CLASS:PUBLIC
END:VEVENT
END:VCALENDAR
