BEGIN:VCALENDAR
VERSION:2.0
CALSCALE:GREGORIAN
PRODID:-//Diputació de Barcelona//DibaCMS//EN
BEGIN:VEVENT
UID:25055
DTSTAMP:20260423T122233
DTSTART:20230418T180000
DTEND:20230418T180000
SUMMARY:Sant Jordi 2023. Club de lectura: tertúlia del llibre Somnis de l’harem de Fàtima Mernissi
LOCATION:Santa Teresa, 3-5 08140 Caldes de Montbui
METHOD:PUBLISH
X-WR-CALNAME:caldesm@caldesdemontbui.cat
X-WR-TIMEZONE:Europe/Madrid
DESCRIPTION:
URI:https://www.caldesdemontbui.cat/actualitat/agenda/sant-jordi-2023-club-de-lectura-tertulia-del-llibre-somnis-de-lharem-de-fatima-mernissi.html
CLASS:PUBLIC
END:VEVENT
END:VCALENDAR
