BEGIN:VCALENDAR
VERSION:2.0
CALSCALE:GREGORIAN
PRODID:-//Diputació de Barcelona//DibaCMS//EN
BEGIN:VEVENT
UID:25054
DTSTAMP:20260425T131302
DTSTART:20230415T193000
DTEND:20230415T193000
SUMMARY:Sant Jordi 2023. Concert de guitarra i piano amb Jordi Masó i Manel Sánchez.
LOCATION:Carrer del Pont, 3 08140 Caldes de Montbui
METHOD:PUBLISH
X-WR-CALNAME:caldesm@caldesdemontbui.cat
X-WR-TIMEZONE:Europe/Madrid
DESCRIPTION:
URI:https://www.caldesdemontbui.cat/actualitat/agenda/sant-jordi-2023-concert-de-guitarra-i-piano-amb-jordi-maso-i-manel-sanchez.html
CLASS:PUBLIC
END:VEVENT
END:VCALENDAR
