BEGIN:VCALENDAR
VERSION:2.0
CALSCALE:GREGORIAN
PRODID:-//Diputació de Barcelona//DibaCMS//EN
BEGIN:VEVENT
UID:25050
DTSTAMP:20260423T102423
DTSTART:20230420T173000
DTEND:20230420T173000
SUMMARY:Presentació del llibre "Mis queridas compañeras" de Montserrat Fernández
LOCATION:
METHOD:PUBLISH
X-WR-CALNAME:caldesm@caldesdemontbui.cat
X-WR-TIMEZONE:Europe/Madrid
DESCRIPTION:
URI:https://www.caldesdemontbui.cat/actualitat/agenda/presentacio-del-llibre-mis-queridas-companeras-de-montserrat-fernandez.html
CLASS:PUBLIC
END:VEVENT
END:VCALENDAR
