BEGIN:VCALENDAR
VERSION:2.0
CALSCALE:GREGORIAN
PRODID:-//Diputació de Barcelona//DibaCMS//EN
BEGIN:VEVENT
UID:25049
DTSTAMP:20260423T152922
DTSTART:20230419T113000
DTEND:20230419T113000
SUMMARY:Ballada de sardanes amb la Colla de l'Esplai
LOCATION:
METHOD:PUBLISH
X-WR-CALNAME:caldesm@caldesdemontbui.cat
X-WR-TIMEZONE:Europe/Madrid
DESCRIPTION:
URI:https://www.caldesdemontbui.cat/actualitat/agenda/25049-ballada-de-sardanes-amb-la-colla-de-lesplai.html
CLASS:PUBLIC
END:VEVENT
END:VCALENDAR
