BEGIN:VCALENDAR
VERSION:2.0
CALSCALE:GREGORIAN
PRODID:-//Diputació de Barcelona//DibaCMS//EN
BEGIN:VEVENT
UID:25048
DTSTAMP:20260423T153412
DTSTART:20230419T080000
DTEND:20230419T080000
SUMMARY:Sortida a Besalú
LOCATION:
METHOD:PUBLISH
X-WR-CALNAME:caldesm@caldesdemontbui.cat
X-WR-TIMEZONE:Europe/Madrid
DESCRIPTION:
URI:https://www.caldesdemontbui.cat/actualitat/agenda/sortida-a-besalu.html
CLASS:PUBLIC
END:VEVENT
END:VCALENDAR
