BEGIN:VCALENDAR
VERSION:2.0
CALSCALE:GREGORIAN
PRODID:-//Diputació de Barcelona//DibaCMS//EN
BEGIN:VEVENT
UID:25047
DTSTAMP:20260423T083741
DTSTART:20230419T080000
DTEND:20230419T080000
SUMMARY:Caminada a les piscines de Palau Solità i Plegamans
LOCATION:
METHOD:PUBLISH
X-WR-CALNAME:caldesm@caldesdemontbui.cat
X-WR-TIMEZONE:Europe/Madrid
DESCRIPTION:
URI:https://www.caldesdemontbui.cat/actualitat/agenda/caminada-a-les-piscines-de-palau-solita-i-plegamans.html
CLASS:PUBLIC
END:VEVENT
END:VCALENDAR
