BEGIN:VCALENDAR
VERSION:2.0
CALSCALE:GREGORIAN
PRODID:-//Diputació de Barcelona//DibaCMS//EN
BEGIN:VEVENT
UID:25041
DTSTAMP:20260423T083646
DTSTART:20230420T100000
DTEND:20230420T130000
SUMMARY:Matinal virtual de la Reempresa 
LOCATION:
METHOD:PUBLISH
X-WR-CALNAME:caldesm@caldesdemontbui.cat
X-WR-TIMEZONE:Europe/Madrid
DESCRIPTION:
URI:https://www.caldesdemontbui.cat/actualitat/agenda/25041-matinal-virtual-de-la-reempresa-.html
CLASS:PUBLIC
END:VEVENT
END:VCALENDAR
