BEGIN:VCALENDAR
VERSION:2.0
CALSCALE:GREGORIAN
PRODID:-//Diputació de Barcelona//DibaCMS//EN
BEGIN:VEVENT
UID:25036
DTSTAMP:20260422T233519
DTSTART:20230423T110000
DTEND:20230423T110000
SUMMARY:Sant Jordi 2023. Concentració de Cors Clavé
LOCATION:C. Mestre Gregori Montserrat, 4 08140 Caldes de Montbui
METHOD:PUBLISH
X-WR-CALNAME:caldesm@caldesdemontbui.cat
X-WR-TIMEZONE:Europe/Madrid
DESCRIPTION:
URI:https://www.caldesdemontbui.cat/actualitat/agenda/sant-jordi-2023-concentracio-de-cors-clave.html
CLASS:PUBLIC
END:VEVENT
END:VCALENDAR
