BEGIN:VCALENDAR
VERSION:2.0
CALSCALE:GREGORIAN
PRODID:-//Diputació de Barcelona//DibaCMS//EN
BEGIN:VEVENT
UID:25035
DTSTAMP:20260423T083459
DTSTART:20230423T200000
DTEND:20230423T200000
SUMMARY:Sant Jordi 2023. Recital xaró de poesies d’abans... dites com abans "Com nos tornem"
LOCATION:Corredossos de Baix, 9-11 08140 Caldes de Montbui
METHOD:PUBLISH
X-WR-CALNAME:caldesm@caldesdemontbui.cat
X-WR-TIMEZONE:Europe/Madrid
DESCRIPTION:
URI:https://www.caldesdemontbui.cat/actualitat/agenda/sant-jordi-2023-recital-xaro-de-poesies-dabans-dites-com-abans-com-nos-tornem.html
CLASS:PUBLIC
END:VEVENT
END:VCALENDAR
