BEGIN:VCALENDAR
VERSION:2.0
CALSCALE:GREGORIAN
PRODID:-//Diputació de Barcelona//DibaCMS//EN
BEGIN:VEVENT
UID:25020
DTSTAMP:20260423T101813
DTSTART:20230420T090000
DTEND:20230420T140000
SUMMARY:Club de feina +16. Taller “Sortides laborals”
LOCATION:2a planta de l'edifici A de l'Equipament Municipal El Carme (carrer de Bellit, 7-9) 08140 Caldes de Montbui
METHOD:PUBLISH
X-WR-CALNAME:caldesm@caldesdemontbui.cat
X-WR-TIMEZONE:Europe/Madrid
DESCRIPTION:
URI:https://www.caldesdemontbui.cat/actualitat/agenda/25020-club-de-feina-16-taller-sortides-laborals.html
CLASS:PUBLIC
END:VEVENT
END:VCALENDAR
