BEGIN:VCALENDAR
VERSION:2.0
CALSCALE:GREGORIAN
PRODID:-//Diputació de Barcelona//DibaCMS//EN
BEGIN:VEVENT
UID:25009
DTSTAMP:20260423T031153
DTSTART:20230401T120000
DTEND:20230401T120000
SUMMARY:Narració de contes per a petits lectors del mes d’abril. Un conte al sac: 'Petits, Petits'
LOCATION:Santa Teresa, 3-5 08140 Caldes de Montbui
METHOD:PUBLISH
X-WR-CALNAME:caldesm@caldesdemontbui.cat
X-WR-TIMEZONE:Europe/Madrid
DESCRIPTION:
URI:https://www.caldesdemontbui.cat/actualitat/agenda/narracio-de-contes-per-a-petits-lectors-del-mes-dabril-un-conte-al-sac-petits-petits.html
CLASS:PUBLIC
END:VEVENT
END:VCALENDAR
