BEGIN:VCALENDAR
VERSION:2.0
CALSCALE:GREGORIAN
PRODID:-//Diputació de Barcelona//DibaCMS//EN
BEGIN:VEVENT
UID:25001
DTSTAMP:20260423T134535
DTSTART:20230402T190000
DTEND:20230402T190000
SUMMARY:Presentació del llibre "Entre mans, Dones pageses, dones dempeus"
LOCATION:Corredossos de Baix, 9-11 08140 Caldes de Montbui
METHOD:PUBLISH
X-WR-CALNAME:caldesm@caldesdemontbui.cat
X-WR-TIMEZONE:Europe/Madrid
DESCRIPTION:
URI:https://www.caldesdemontbui.cat/actualitat/agenda/presentacio-del-llibre-entre-mans-dones-pageses-dones-dempeus.html
CLASS:PUBLIC
END:VEVENT
END:VCALENDAR
