BEGIN:VCALENDAR
VERSION:2.0
CALSCALE:GREGORIAN
PRODID:-//Diputació de Barcelona//DibaCMS//EN
BEGIN:VEVENT
UID:24985
DTSTAMP:20260423T101627
DTSTART:20230328T193000
DTEND:20230328T193000
SUMMARY:Presentació del llibre 'Cuina tradicional i termal: Catalunya/Les Landes (França)'
LOCATION:Carrer del Pont, 3 08140 Caldes de Montbui
METHOD:PUBLISH
X-WR-CALNAME:caldesm@caldesdemontbui.cat
X-WR-TIMEZONE:Europe/Madrid
DESCRIPTION:
URI:https://www.caldesdemontbui.cat/actualitat/agenda/presentacio-del-llibre-cuina-tradicional-i-termal-catalunyales-landes-franca.html
CLASS:PUBLIC
END:VEVENT
END:VCALENDAR
