BEGIN:VCALENDAR
VERSION:2.0
CALSCALE:GREGORIAN
PRODID:-//Diputació de Barcelona//DibaCMS//EN
BEGIN:VEVENT
UID:24983
DTSTAMP:20260423T115928
DTSTART:20230324T183000
DTEND:20230324T183000
SUMMARY:Lectura en veu alta d’Els Culdolla, el clàssic de Roald Dahl
LOCATION:Santa Teresa, 3-5 08140 Caldes de Montbui
METHOD:PUBLISH
X-WR-CALNAME:caldesm@caldesdemontbui.cat
X-WR-TIMEZONE:Europe/Madrid
DESCRIPTION:
URI:https://www.caldesdemontbui.cat/actualitat/agenda/lectura-en-veu-alta-dels-culdolla-el-classic-de-roald-dahl.html
CLASS:PUBLIC
END:VEVENT
END:VCALENDAR
